Workbook

Sheet 輸出摘要
A1: 總評估表
A2: 各空間試算
A3: 單位換算
A4: 空間試算temp
A5: tvoc分子量

Sheet 總評估表
A1: GD綠裝修案件評估表
A2: 案 名 | D2: 評估日期 | E2: 46039 | G2: 委託單位
A3: 聯絡人 | D3: 聯絡電話 | G3: 傳真電話
A4: 施作面積 | B4: =10.4+5.5+1.4+2.9+23.6+1.7+4.5 -> 50 | D4: 評估人員 | E4: Shawn | G4: 施工日期
A6: 空間名稱(1) | D6: 面積(m2) | E6: 78.02 | G6: 淨高(m) | H6: 2.7
A7: 客廳 | D7: 甲醛濃度試算(PPM) | G7: TVOC濃度試算(PPM)
D8: =各空間試算!D16 -> 0.04159907 | G8: =各空間試算!E16 -> 0.09930334
A9: 空間名稱(2) | D9: 面積(m2) | E9: 34.39 | G9: 淨高(m) | H9: 2.7
A10: 主臥室 | D10: 甲醛濃度試算(PPM) | G10: TVOC濃度試算(PPM)
D11: =各空間試算!D34 -> 0.058698361 | G11: =各空間試算!E34 -> 0.022079698
A12: 空間名稱(3) | D12: 面積(m2) | E12: 18.19 | G12: 淨高(m) | H12: 2.7
A13: 客房 | D13: 甲醛濃度試算(PPM) | G13: TVOC濃度試算(PPM)
D14: =各空間試算!K16 -> 0.079039186 | G14: =各空間試算!L16 -> 0.21390991
A15: 空間名稱(4) | D15: 面積(m2) | E15: 14.88 | G15: 淨高(m) | H15: 2.7
A16: 多功能室 | D16: 甲醛濃度試算(PPM) | G16: TVOC濃度試算(PPM)
D17: =各空間試算!K34 -> 0.10450811 | G17: =各空間試算!L34 -> 0.2736993
A18: 空間名稱(5) | D18: 面積(m2) | G18: 淨高(m)
D19: 甲醛濃度試算(PPM) | G19: TVOC濃度試算(PPM)
D20: =各空間試算!R16 | G20: =各空間試算!S16
A21: 空間名稱(6) | D21: 面積(m2) | G21: 淨高(m)
D22: 甲醛濃度試算(PPM) | G22: TVOC濃度試算(PPM)
D23: =各空間試算!R34 | G23: =各空間試算!S34
A24: 評估結果 | D24: PASS
A25: 評估建議： <室內空品法檢測規定 甲醛不得超過 0.08PPM / TVOC不得超過 0.56PPM> 1、本表依提供之材料清單、材料報告及樣本檢測數值代入試算，符合室內空品標準。 2、此為依樣品檢測之數值，非保證等於現場數值。 3、代入材料如下頁表示，未帶入之材料有可能增加現場甲醛/TVOC之濃度。 4、若為GD綠裝網推薦之產品，方有進行現場材料抽測。

Sheet 各空間試算
B1: 空間名 | C1: =總評估表!A7 -> 客廳 | I1: 空間名 | J1: =總評估表!A13 -> 客房 | P1: 空間名 | Q1: 工作室
B2: 參數 設定 | C2: 室內面積 (m2) | D2: 室內高度(m) | E2: 換氣率 ( hr-1) | F2: 空氣混合率 | I2: 參數 設定 | J2: 室內面積 (m2) | K2: 室內高度(m) | L2: 換氣率 ( hr-1) | M2: 空氣混合率 | P2: 參數 設定 | Q2: 室內面積 (m2) | R2: 室內高度(m) | S2: 換氣率 ( hr-1) | T2: 空氣混合率
C3: =總評估表!E6 -> 78.02 | D3: 2.7 | E3: 0.5 | F3: 0.5 | J3: =總評估表!E12 -> 18.19 | K3: 2.7 | L3: 0.5 | M3: 0.5 | S3: 0.5 | T3: 0.5
B5: 編號 | C5: 建材品名 | D5: 甲醛逸散率 (mg/m2．hr) | E5: TVOC逸散率 (mg/m2．hr) | F5: 使用表面積 (m2) | I5: 編號 | J5: 建材品名 | K5: 甲醛逸散率 (mg/m2．hr) | L5: TVOC逸散率 (mg/m2．hr) | M5: 使用表面積 (m2) | P5: 編號 | Q5: 建材品名 | R5: 甲醛逸散率 (mg/m2．hr) | S5: TVOC逸散率 (mg/m2．hr) | T5: 使用表面積 (m2)
B6: 1 | C6: (天)得利水泥漆 | D6: 0.008 | E6: 0.05 | F6: =C3 -> 78.02 | I6: 1 | J6: (天)得利水泥漆 | K6: 0.008 | L6: 0.05 | M6: =J3 -> 18.19 | P6: 1
B7: 2 | C7: (立)得利水泥漆 | D7: 0.008 | E7: 0.05 | F7: =5.43*2.7*2+5.91*2.7*2+3.79*2.7+1.6*2.7+0.9*2*2.7 -> 80.649 | I7: 2 | J7: (立)得利水泥漆 | K7: 0.008 | L7: 0.05 | M7: =4.83*2.7+3*2.7+1.55*2.7 -> 25.326 | P7: 2
B8: 3 | C8: (立)櫃體 | D8: 0.016 | E8: 0.2 | F8: =(1.5*2.5+1.84*2.8+1.75*1+1.19*2.8+0.77*1+1.98*2.5)*4.5 -> 88.668 | I8: 3 | J8: (立)櫃體 | K8: 0.016 | L8: 0.2 | M8: =(2.88*2.35+1.24*2.35)*4.5 -> 43.569 | P8: 3
B9: 4 | I9: 4 | J9: (地)SPC | K9: 0.008 | L9: 0.11 | M9: =J3 -> 18.19 | P9: 4
B10: 5 | I10: 5 | P10: 5
B11: 6 | I11: 6 | P11: 6
B12: 7 | I12: 7 | P12: 7
D14: 甲醛濃度 | E14: TVOC 濃度 | F14: 綠建材使用率 | K14: 甲醛濃度 | L14: TVOC 濃度 | M14: 綠建材使用率 | R14: 甲醛濃度 | S14: TVOC 濃度 | T14: 綠建材使用率
B15: 質量濃度 ( mg / m3 ) | D15: =空間試算temp!B16 -> 0.051041803 | E15: =空間試算temp!C16 -> 0.48737836 | I15: 質量濃度 ( mg / m3 ) | K15: =空間試算temp!F16 -> 0.096980596 | L15: =空間試算temp!G16 -> 1.0498646 | P15: 質量濃度 ( mg / m3 ) | R15: =空間試算temp!J16 | S15: =空間試算temp!K16
B16: 體積濃度 ( P.P.M ) | D16: =空間試算temp!B17 -> 0.04159907 | E16: =空間試算temp!C17 -> 0.09930334 | I16: 體積濃度 ( P.P.M ) | K16: =空間試算temp!F17 -> 0.079039186 | L16: =空間試算temp!G17 -> 0.21390991 | P16: 體積濃度 ( P.P.M ) | R16: =空間試算temp!J17 | S16: =空間試算temp!K17
B19: 空間名 | C19: =總評估表!A10 -> 主臥室 | I19: 空間名 | J19: =總評估表!A16 -> 多功能室 | P19: 空間名 | Q19: 空間別6
B20: 參數 設定 | C20: 室內面積 (m2) | D20: 室內高度(m) | E20: 換氣率 ( hr-1) | F20: 空氣混合率 | I20: 參數 設定 | J20: 室內面積 (m2) | K20: 室內高度(m) | L20: 換氣率 ( hr-1) | M20: 空氣混合率 | P20: 參數 設定 | Q20: 室內面積 (m2) | R20: 室內高度(m) | S20: 換氣率 ( hr-1) | T20: 空氣混合率
C21: 12.6 | D21: 3.1 | E21: 0.5 | F21: 0.5 | J21: =總評估表!E15 -> 14.88 | K21: 2.7 | L21: 0.5 | M21: 0.5 | Q21: 0 | R21: 0 | S21: 0.5 | T21: 0.5
B23: 編號 | C23: 建材品名 | D23: 甲醛逸散率 (mg/m2．hr) | E23: TVOC逸散率 (mg/m2．hr) | F23: 使用表面積 (m2) | I23: 編號 | J23: 建材品名 | K23: 甲醛逸散率 (mg/m2．hr) | L23: TVOC逸散率 (mg/m2．hr) | M23: 使用表面積 (m2) | P23: 編號 | Q23: 建材品名 | R23: 甲醛逸散率 (mg/m2．hr) | S23: TVOC逸散率 (mg/m2．hr) | T23: 使用表面積 (m2)
B24: 1 | C24: 森呼吸矽藻漆(舒活) | D24: 0 | E24: 0 | F24: 45 | I24: 1 | J24: (天)得利水泥漆 | K24: 0.008 | L24: 0.05 | M24: =J21 -> 14.88 | P24: 1
B25: 2 | C25: 威肯雅飾藝術複合木質地板 | D25: 0.0251 | E25: 0.0294 | F25: 13 | I25: 2 | J25: (立)得利水泥漆 | K25: 0.008 | L25: 0.05 | M25: =3.7*2.7+6.71*2.7 -> 28.107 | P25: 2
B26: 3 | C26: A&A淺野HiLuc 0.8FK矽酸鈣板 | D26: 0 | E26: 0 | F26: 13 | I26: 3 | J26: (立)櫃體 | K26: 0.017 | L26: 0.2 | M26: =(1.74*0.15+3.61*2.35+2.4*0.85)*4.5 -> 48.53025 | P26: 3
B27: 4 | C27: EGGER愛格化粧粒片板 | D27: 0.029 | E27: 0.052 | F27: 13 | I27: 4 | J27: (地)SPC | K27: 0.008 | L27: 0.11 | M27: =J21 -> 14.88 | P27: 4
B28: 5 | C28: 日安角材 | D28: 0 | E28: 0 | F28: 10 | I28: 5 | P28: 5
B29: 6 | I29: 6 | P29: 6
B30: 7 | I30: 7 | P30: 7
D32: 甲醛濃度 | E32: TVOC 濃度 | F32: 綠建材使用率 | K32: 甲醛濃度 | L32: TVOC 濃度 | M32: 綠建材使用率 | R32: 甲醛濃度 | S32: TVOC 濃度 | T32: 綠建材使用率
B33: 質量濃度 ( mg / m3 ) | D33: =空間試算temp!B34 -> 0.072022529 | E33: =空間試算temp!C34 -> 0.10836662 | I33: 質量濃度 ( mg / m3 ) | K33: =空間試算temp!F34 -> 0.12823081 | L33: =空間試算temp!G34 -> 1.3433094 | P33: 質量濃度 ( mg / m3 ) | R33: =空間試算temp!J34 | S33: =空間試算temp!K34
B34: 體積濃度 ( P.P.M ) | D34: =空間試算temp!B35 -> 0.058698361 | E34: =空間試算temp!C35 -> 0.022079698 | I34: 體積濃度 ( P.P.M ) | K34: =空間試算temp!F35 -> 0.10450811 | L34: =空間試算temp!G35 -> 0.2736993 | P34: 體積濃度 ( P.P.M ) | R34: =空間試算temp!J35 | S34: =空間試算temp!K35

Sheet 單位換算
A2: CNS1349 (mg/L) 與 (mg/m2．hr) 的換算
A3: 輸入CNS1349 (mg/L) 的數值 | B3: 0.15
A4: 換算成 mg/m2‧hr 的數值 | B4: =IF(B3="","",B3/24) -> 0.00625
A6: 坪數 與 平方米(m2) 的換算
A7: 輸入 室內坪數 | B7: 4.5
A8: 換算成 平方米 | B8: =IF(B7="","",ROUNDUP(B7/0.3025,2)) -> 14.88

Sheet 空間試算temp
A1: =各空間試算!C1 -> 客廳 | E1: =各空間試算!J1 -> 客房 | I1: =各空間試算!Q1 -> 工作室
A2: 編號 | B2: value1 | C2: value2 | E2: 編號 | F2: value1 | G2: value2 | I2: 編號 | J2: value1 | K2: value2
A3: XXXXXX | B3: 30 | C3: 120 | E3: XXXXXX | F3: 30 | G3: 120 | I3: XXXXXX | J3: 30 | K3: 120
A4: 1 | B4: =各空間試算!D6*各空間試算!F6 -> 0.62416 | C4: =各空間試算!E6*各空間試算!F6 -> 3.901 | E4: 1 | F4: =各空間試算!K6*各空間試算!M6 -> 0.14552 | G4: =各空間試算!L6*各空間試算!M6 -> 0.9095 | I4: 1 | J4: =各空間試算!R6*各空間試算!T6 -> 0 | K4: =各空間試算!S6*各空間試算!T6 -> 0
A5: 2 | B5: =各空間試算!D7*各空間試算!F7 -> 0.645192 | C5: =各空間試算!E7*各空間試算!F7 -> 4.03245 | E5: 2 | F5: =各空間試算!K7*各空間試算!M7 -> 0.202608 | G5: =各空間試算!L7*各空間試算!M7 -> 1.2663 | I5: 2 | J5: =各空間試算!R7*各空間試算!T7 -> 0 | K5: =各空間試算!S7*各空間試算!T7 -> 0
A6: 3 | B6: =各空間試算!D8*各空間試算!F8 -> 1.418688 | C6: =各空間試算!E8*各空間試算!F8 -> 17.7336 | E6: 3 | F6: =各空間試算!K8*各空間試算!M8 -> 0.697104 | G6: =各空間試算!L8*各空間試算!M8 -> 8.7138 | I6: 3 | J6: =各空間試算!R8*各空間試算!T8 -> 0 | K6: =各空間試算!S8*各空間試算!T8 -> 0
A7: 4 | B7: =各空間試算!D9*各空間試算!F9 -> 0 | C7: =各空間試算!E9*各空間試算!F9 -> 0 | E7: 4 | F7: =各空間試算!K9*各空間試算!M9 -> 0.14552 | G7: =各空間試算!L9*各空間試算!M9 -> 2.0009 | I7: 4 | J7: =各空間試算!R9*各空間試算!T9 -> 0 | K7: =各空間試算!S9*各空間試算!T9 -> 0
A8: 5 | B8: =各空間試算!D10*各空間試算!F10 -> 0 | C8: =各空間試算!E10*各空間試算!F10 -> 0 | E8: 5 | F8: =各空間試算!K10*各空間試算!M10 -> 0 | G8: =各空間試算!L10*各空間試算!M10 -> 0 | I8: 5 | J8: =各空間試算!R10*各空間試算!T10 -> 0 | K8: =各空間試算!S10*各空間試算!T10 -> 0
A9: 6 | B9: =各空間試算!D11*各空間試算!F11 -> 0 | C9: =各空間試算!E11*各空間試算!F11 -> 0 | E9: 6 | F9: =各空間試算!K11*各空間試算!M11 -> 0 | G9: =各空間試算!L11*各空間試算!M11 -> 0 | I9: 6 | J9: =各空間試算!R11*各空間試算!T11 -> 0 | K9: =各空間試算!S11*各空間試算!T11 -> 0
A10: 7 | B10: =各空間試算!D12*各空間試算!F12 -> 0 | C10: =各空間試算!E12*各空間試算!F12 -> 0 | E10: 7 | F10: =各空間試算!K12*各空間試算!M12 -> 0 | G10: =各空間試算!L12*各空間試算!M12 -> 0 | I10: 7 | J10: =各空間試算!R12*各空間試算!T12 -> 0 | K10: =各空間試算!S12*各空間試算!T12 -> 0
A11: sum | B11: =SUM(B4:B10) -> 2.68804 | C11: =SUM(C4:C10) -> 25.66705 | E11: sum | F11: =SUM(F4:F10) -> 1.190752 | G11: =SUM(G4:G10) -> 12.8905 | I11: sum | J11: =SUM(J4:J10) -> 0 | K11: =SUM(K4:K10) -> 0
A13: =各空間試算!C3*各空間試算!D3 -> 210.654 | B13: =各空間試算!E3 -> 0.5 | C13: =各空間試算!F3 -> 0.5 | E13: =各空間試算!J3*各空間試算!K3 -> 49.113 | F13: =各空間試算!L3 -> 0.5 | G13: =各空間試算!M3 -> 0.5 | I13: =各空間試算!Q3*各空間試算!R3 -> 0 | J13: =各空間試算!S3 -> 0.5 | K13: =各空間試算!T3 -> 0.5
B15: 空間甲醛濃度 | C15: 空間 TVOC 濃度 | F15: 空間甲醛濃度 | G15: 空間 TVOC 濃度 | J15: 空間甲醛濃度 | K15: 空間 TVOC 濃度
A16: 質量濃度 ( mg / m3 ) | B16: =IF(A13=0,"",B11/(A13*B13*C13)) -> 0.051041803 | C16: =IF(A13=0,"",C11/(A13*B13*C13)) -> 0.48737836 | E16: 質量濃度 ( mg / m3 ) | F16: =IF(E13=0,"",F11/(E13*F13*G13)) -> 0.096980596 | G16: =IF(E13=0,"",G11/(E13*F13*G13)) -> 1.0498646 | I16: 質量濃度 ( mg / m3 ) | J16: =IF(I13=0,"",J11/(I13*J13*K13)) | K16: =IF(I13=0,"",K11/(I13*J13*K13))
A17: 體積濃度 ( P.P.M ) | B17: =IF(B16="","",B16*24.45/B3) -> 0.04159907 | C17: =IF(C16="","",C16*24.45/C3) -> 0.09930334 | E17: 體積濃度 ( P.P.M ) | F17: =IF(F16="","",F16*24.45/F3) -> 0.079039186 | G17: =IF(G16="","",G16*24.45/G3) -> 0.21390991 | I17: 體積濃度 ( P.P.M ) | J17: =IF(J16="","",J16*24.45/J3) | K17: =IF(K16="","",K16*24.45/K3)
A19: =各空間試算!C19 -> 主臥室 | E19: =各空間試算!J19 -> 多功能室 | I19: =各空間試算!Q19 -> 空間別6
A20: 編號 | B20: value1 | C20: value2 | E20: 編號 | F20: value1 | G20: value2 | I20: 編號 | J20: value1 | K20: value2
A21: XXXXXX | B21: 30 | C21: 120 | E21: XXXXXX | F21: 30 | G21: 120 | I21: XXXXXX | J21: 30 | K21: 120
A22: 1 | B22: =各空間試算!D24*各空間試算!F24 -> 0 | C22: =各空間試算!E24*各空間試算!F24 -> 0 | E22: 1 | F22: =各空間試算!K24*各空間試算!M24 -> 0.11904 | G22: =各空間試算!L24*各空間試算!M24 -> 0.744 | I22: 1 | J22: =各空間試算!R24*各空間試算!T24 -> 0 | K22: =各空間試算!S24*各空間試算!T24 -> 0
A23: 2 | B23: =各空間試算!D25*各空間試算!F25 -> 0.3263 | C23: =各空間試算!E25*各空間試算!F25 -> 0.3822 | E23: 2 | F23: =各空間試算!K25*各空間試算!M25 -> 0.224856 | G23: =各空間試算!L25*各空間試算!M25 -> 1.40535 | I23: 2 | J23: =各空間試算!R25*各空間試算!T25 -> 0 | K23: =各空間試算!S25*各空間試算!T25 -> 0
A24: 3 | B24: =各空間試算!E26*各空間試算!F26 -> 0 | C24: =各空間試算!E26*各空間試算!F26 -> 0 | E24: 3 | F24: =各空間試算!K26*各空間試算!M26 -> 0.82501425 | G24: =各空間試算!L26*各空間試算!M26 -> 9.70605 | I24: 3 | J24: =各空間試算!R26*各空間試算!T26 -> 0 | K24: =各空間試算!S26*各空間試算!T26 -> 0
A25: 4 | B25: =各空間試算!D27*各空間試算!F27 -> 0.377 | C25: =各空間試算!E27*各空間試算!F27 -> 0.676 | E25: 4 | F25: =各空間試算!K27*各空間試算!M27 -> 0.11904 | G25: =各空間試算!L27*各空間試算!M27 -> 1.6368 | I25: 4 | J25: =各空間試算!R27*各空間試算!T27 -> 0 | K25: =各空間試算!S27*各空間試算!T27 -> 0
A26: 5 | B26: =各空間試算!D28*各空間試算!F28 -> 0 | C26: =各空間試算!E28*各空間試算!F28 -> 0 | E26: 5 | F26: =各空間試算!K28*各空間試算!M28 -> 0 | G26: =各空間試算!L28*各空間試算!M28 -> 0 | I26: 5 | J26: =各空間試算!R28*各空間試算!T28 -> 0 | K26: =各空間試算!S28*各空間試算!T28 -> 0
A27: 6 | B27: =各空間試算!D29*各空間試算!F29 -> 0 | C27: =各空間試算!E29*各空間試算!F29 -> 0 | E27: 6 | F27: =各空間試算!K29*各空間試算!M29 -> 0 | G27: =各空間試算!L29*各空間試算!M29 -> 0 | I27: 6 | J27: =各空間試算!R29*各空間試算!T29 -> 0 | K27: =各空間試算!S29*各空間試算!T29 -> 0
A28: 7 | B28: =各空間試算!D30*各空間試算!F30 -> 0 | C28: =各空間試算!E30*各空間試算!F30 -> 0 | E28: 7 | F28: =各空間試算!K30*各空間試算!M30 -> 0 | G28: =各空間試算!L30*各空間試算!M30 -> 0 | I28: 7 | J28: =各空間試算!R30*各空間試算!T30 -> 0 | K28: =各空間試算!S30*各空間試算!T30 -> 0
A29: sum | B29: =SUM(B22:B28) -> 0.7033 | C29: =SUM(C22:C28) -> 1.0582 | E29: sum | F29: =SUM(F22:F28) -> 1.2879502 | G29: =SUM(G22:G28) -> 13.4922 | I29: sum | J29: =SUM(J22:J28) -> 0 | K29: =SUM(K22:K28) -> 0
A31: =各空間試算!C21*各空間試算!D21 -> 39.06 | B31: =各空間試算!E21 -> 0.5 | C31: =各空間試算!F21 -> 0.5 | E31: =各空間試算!J21*各空間試算!K21 -> 40.176 | F31: =各空間試算!L21 -> 0.5 | G31: =各空間試算!M21 -> 0.5 | I31: =各空間試算!Q21*各空間試算!R21 -> 0 | J31: =各空間試算!S21 -> 0.5 | K31: =各空間試算!T21 -> 0.5
B33: 空間甲醛濃度 | C33: 空間 TVOC 濃度 | F33: 空間甲醛濃度 | G33: 空間 TVOC 濃度 | J33: 空間甲醛濃度 | K33: 空間 TVOC 濃度
A34: 質量濃度 ( mg / m3 ) | B34: =IF(A31=0,"",B29/(A31*B31*C31)) -> 0.072022529 | C34: =IF(A31=0,"",C29/(A31*B31*C31)) -> 0.10836662 | E34: 質量濃度 ( mg / m3 ) | F34: =IF(E31=0,"",F29/(E31*F31*G31)) -> 0.12823081 | G34: =IF(E31=0,"",G29/(E31*F31*G31)) -> 1.3433094 | I34: 質量濃度 ( mg / m3 ) | J34: =IF(I31=0,"",J29/(I31*J31*K31)) | K34: =IF(I31=0,"",K29/(I31*J31*K31))
A35: 體積濃度 ( P.P.M ) | B35: =IF(B34="","",B34*24.45/B21) -> 0.058698361 | C35: =IF(C34="","",C34*24.45/C21) -> 0.022079698 | E35: 體積濃度 ( P.P.M ) | F35: =IF(F34="","",F34*24.45/F21) -> 0.10450811 | G35: =IF(G34="","",G34*24.45/G21) -> 0.2736993 | I35: 體積濃度 ( P.P.M ) | J35: =IF(J34="","",J34*24.45/J21) | K35: =IF(K34="","",K34*24.45/K21)

Sheet tvoc分子量
A1: 表格 1
A2: TVOC名稱 | B2: 化學式 | C2: 分子量
A3: 苯 | B3: c6h6 | C3: 78
A4: 甲苯 | B4: c7h8 | C4: 92
A5: 乙苯 | B5: c8h10 | C5: 106
A6: 二甲苯 | B6: c8h10 | C6: 106
A7: 鄰二氯苯 | B7: c6h4cl2 | C7: 147
A8: 對二氯苯 | B8: c6h4cl2 | C8: 147
A9: 苯乙烯 | B9: c8h8 | C9: 104
A10: 二氯甲烷 | B10: ch2cl2 | C10: 85
A11: 三氯甲烷 | B11: chcl3 | C11: 119.5
A12: 三氯乙烯 | B12: c2hcl3 | C12: 131.5
A13: 四氯乙烯 | B13: c2cl4 | C13: 166
A14: 四氯化碳 | B14: ccl4 | C14: 154
A15: 平均分子量 | C15: =SUM(C3:C14)/12 -> 119.66667
